BEGIN:VCALENDAR
VERSION:2.0
PRODID:-//Cuddle Party INC. - ECPv6.15.17.1//NONSGML v1.0//EN
CALSCALE:GREGORIAN
METHOD:PUBLISH
X-WR-CALNAME:Cuddle Party INC.
X-ORIGINAL-URL:https://www.cuddleparty.com
X-WR-CALDESC:Events for Cuddle Party INC.
REFRESH-INTERVAL;VALUE=DURATION:PT1H
X-Robots-Tag:noindex
X-PUBLISHED-TTL:PT1H
BEGIN:VTIMEZONE
TZID:America/New_York
BEGIN:DAYLIGHT
TZOFFSETFROM:-0500
TZOFFSETTO:-0400
TZNAME:EDT
DTSTART:20240310T070000
END:DAYLIGHT
BEGIN:STANDARD
TZOFFSETFROM:-0400
TZOFFSETTO:-0500
TZNAME:EST
DTSTART:20241103T060000
END:STANDARD
BEGIN:DAYLIGHT
TZOFFSETFROM:-0500
TZOFFSETTO:-0400
TZNAME:EDT
DTSTART:20250309T070000
END:DAYLIGHT
BEGIN:STANDARD
TZOFFSETFROM:-0400
TZOFFSETTO:-0500
TZNAME:EST
DTSTART:20251102T060000
END:STANDARD
BEGIN:DAYLIGHT
TZOFFSETFROM:-0500
TZOFFSETTO:-0400
TZNAME:EDT
DTSTART:20260308T070000
END:DAYLIGHT
BEGIN:STANDARD
TZOFFSETFROM:-0400
TZOFFSETTO:-0500
TZNAME:EST
DTSTART:20261101T060000
END:STANDARD
BEGIN:DAYLIGHT
TZOFFSETFROM:-0500
TZOFFSETTO:-0400
TZNAME:EDT
DTSTART:20270314T070000
END:DAYLIGHT
BEGIN:STANDARD
TZOFFSETFROM:-0400
TZOFFSETTO:-0500
TZNAME:EST
DTSTART:20271107T060000
END:STANDARD
END:VTIMEZONE
BEGIN:VEVENT
DTSTART;TZID=America/New_York:20260410T190000
DTEND;TZID=America/New_York:20260410T223000
DTSTAMP:20260423T053451
CREATED:20260121T232553Z
LAST-MODIFIED:20260121T232706Z
UID:97458-1775847600-1775860200@www.cuddleparty.com
SUMMARY:Stuffed Animals Cuddle Party
DESCRIPTION:Ever just need a HUG? Want to meet new people? \nBring your Pj’s\, your *favorite stuffed animals* and experience a sweet bubble of nourishing connection!! \nAt Cuddle Party we like to say that we are providing an EMPOWERING communication workshop\, cleverly disguised as a pajama party! \nAmanda is a Certified Cuddle Party Facilitator is honored to host these events for our growing community of Cuddle Monsters! Come out and try this unique oxytocin bliss-filled experience and let your stresses melt away. \nIn our cozy\, safe space\, we will start with icebreakers and the rules of cuddling for the evening. You will gain practice in setting boundaries\, expressing your NO and delivering it with compassion. Simultaneously\, you will be encouraged to navigate our space with fearlessness and fun to ultimately discover your HEAVENS YES! \nThese are skills that can be taken back into your personal life and can drastically improve ALL of your relationships! \nYou will walk away with newfound confidence and unforgettable memories! \nWhat you will gain: \n*Connection\n*Friendship\n*Community\n*Personal Development\n*Giving and Receiving Affection\n*Healing Touch\n*Laughter\n* Think hugs\, back rubs\, foot rubs\, nuzzling\, head scratching\, spooning and all forms of non – sexual snuggling! \nPlease note this is an alcohol and drug-free space and nonsexual environment. \nDue to the upswing in Covid cases in the community\, we are requiring a negative covid test for entry. Please be willing to present a negative test or time-stamped photo. \nWE WILL NOT HAVE TESTS FOR SALE ONSITE. \nRefunds up to 24 hours in advance. \nWondering if this is for you? \nYou can listen to Amanda talk about Cuddle Party in an interveiw with Chion Wolf on CT Public Radio here: \nhttps://www.ctpublic.org/show/audacious-with-chion-wolf/2022-06-02/we-have-to-talk-about-cuddle-parties \nYou can find out more about the event/organization here: \nHome \nABOUT YOUR FACILITATOR: \nAmanda Ananda is an International Tantric Facilitator and Domestic Goddess of 2 outrageous young boys. Amanda has a diverse Tantrica background that allows for a unique\, blissful and radiant experience to unfold in her workshops\, online courses and sessions. She has studied with The School of Tribal Tantra based on Kashmir Shaivism and Shamanic Ritual\, Ipsalu Tantra – Kriya Yoga based on Osho’s dynamic teachings\, and Babaji Nagaraj’s esoteric Cobra Breath Technique and Urban Tantra combining modern tantric philosophy with conscious kink. Amanda as a life-long student\, immersed herself in the sacred teachings from the Temple of Isis and Mary Magdalene\, and is most recently now diving deeply into Somatic Trauma Healing. She encourages you to live blissfully in this intense world by gently taking care of yourself and making joyful well-being your first-and-foremost priority. Her techniques will help you to become embodied with simple-yet-profound\, heartfelt tools that you can apply in your daily life. \nWorking with Amanda will assist you to clear the “murky gunk” that blocks you from your true light\, guiding you in opening up to the miracle of life\, and embracing the bubble of “ananda” (or\, in English\, bliss!) that is constantly accessible to us all. She is tremendously enthusiastic and humbled to share these teachings with the wonderful souls who say ‘HEAVEN’S YES’ to time spent with her. \nAmanda is responsible for bringing Cuddle Party to the Connecticut area. She is ecstatic and honored to support the quickly evolving local Cuddle Monster community. \nYou can follow her at Amanda Ananda on Facebook or @thetantricmama on Instagram. Go to www.TheTantricMama.com for free meditations\, online courses\, private sessions and event schedule. \nREGISTER HERE:  https://thetantricmama.mykajabi.com/offers/AZnoP6Vg/checkout
URL:https://www.cuddleparty.com/event/stuffed-animals-cuddle-party/
LOCATION:Centered\, PLLC\, 285 Nicoll Street\, New Haven\, CT\, 06511\, United States
CATEGORIES:Amanda Ananda,Cuddle Party
ATTACH;FMTTYPE=image/png:https://www.cuddleparty.com/wp-content/uploads/2026/01/APR-2026-Cuddle-Party.png
END:VEVENT
BEGIN:VEVENT
DTSTART;TZID=America/New_York:20260313T190000
DTEND;TZID=America/New_York:20260313T223000
DTSTAMP:20260423T053451
CREATED:20260121T232221Z
LAST-MODIFIED:20260121T232753Z
UID:97453-1773428400-1773441000@www.cuddleparty.com
SUMMARY:Karaoke Cuddle Party!
DESCRIPTION:Ever just need a HUG? Want to meet new people? \nBring your Pj’s and experience a sweet bubble of nourishing connection and confidence building— karaoke style!!! \nAt Cuddle Party we like to say that we are providing an EMPOWERING communication workshop\, cleverly disguised as a pajama party! \nAmanda is a Certified Cuddle Party Facilitator is honored to host these events for our growing community of Cuddle Monsters! Come out and try this unique oxytocin bliss-filled experience and let your stresses melt away. \nIn our cozy\, safe space\, we will start with icebreakers and the rules of cuddling for the evening. You will gain practice in setting boundaries\, expressing your NO and delivering it with compassion. Simultaneously\, you will be encouraged to navigate our space with fearlessness and fun to ultimately discover your HEAVENS YES! \nThese are skills that can be taken back into your personal life and can drastically improve ALL of your relationships! \nYou will walk away with newfound confidence and unforgettable memories! \nWhat you will gain: \n*Connection\n*Friendship\n*Community\n*Personal Development\n*Giving and Receiving Affection\n*Healing Touch\n*Laughter\n* Think hugs\, back rubs\, foot rubs\, nuzzling\, head scratching\, spooning and all forms of non – sexual snuggling! \nPLEASE BE PROMPT\, WE WILL START THE WELCOME CIRCLE at 7:15pm AND DOORS WILL BE CLOSED (if you are running late please PM me.) \nTickets are $35 \nRefunds up to 24 hours in advance \n**PLEASE BRING Pj’s & HEALTHY SNACK TO SHARE!**\n(Nut Free Please) \nPlease note this is an alcohol and drug-free space and nonsexual environment. \nWondering if this is for you? \nYou can listen to Amanda talk about Cuddle Party in an interveiw with Chion Wolf on CT Public Radio here: \nhttps://www.ctpublic.org/show/audacious-with-chion-wolf/2022-06-02/we-have-to-talk-about-cuddle-parties \nYou can find out more about the event/organization here: \nHome \n18+ EVENT \nCOVID PROTOCOL: Due to the upswing in Covid cases in the community\, we are requiring a negative covid test for entry. Please be willing to present a negative test or time-stamped photo.\nWE WILL NOT HAVE TESTS FOR SALE ONSITE. \nABOUT YOUR FACILITATOR: \nAmanda Ananda is an International Tantric Facilitator and Domestic Goddess of 2 outrageous young boys. Amanda has a diverse Tantrica background that allows for a unique\, blissful and radiant experience to unfold in her workshops\, online courses and sessions. She has studied with The School of Tribal Tantra based on Kashmir Shaivism and Shamanic Ritual\, Ipsalu Tantra – Kriya Yoga based on Osho’s dynamic teachings\, and Babaji Nagaraj’s esoteric Cobra Breath Technique and Urban Tantra combining modern tantric philosophy with conscious kink. Amanda as a life-long student\, immersed herself in the sacred teachings from the Temple of Isis and Mary Magdalene\, and is most recently now diving deeply into Somatic Trauma Healing. She encourages you to live blissfully in this intense world by gently taking care of yourself and making joyful well-being your first-and-foremost priority. Her techniques will help you to become embodied with simple-yet-profound\, heartfelt tools that you can apply in your daily life. \nWorking with Amanda will assist you to clear the “murky gunk” that blocks you from your true light\, guiding you in opening up to the miracle of life\, and embracing the bubble of “ananda” (or\, in English\, bliss!) that is constantly accessible to us all. She is tremendously enthusiastic and humbled to share these teachings with the wonderful souls who say ‘HEAVEN’S YES’ to time spent with her. \nAmanda is responsible for bringing Cuddle Party to the Connecticut area. She is ecstatic and honored to support the quickly evolving local Cuddle Monster community. \nYou can follow her at Amanda Ananda on Facebook or @thetantricmama on Instagram. Go to www.TheTantricMama.com for free meditations\, online courses\, private sessions and event schedule. \nREGISTER HERE:  https://thetantricmama.mykajabi.com/offers/NQi67H69/checkout
URL:https://www.cuddleparty.com/event/karaoke-cuddle-party/
LOCATION:Centered\, PLLC\, 285 Nicoll Street\, New Haven\, CT\, 06511\, United States
CATEGORIES:Amanda Ananda,Cuddle Party
ATTACH;FMTTYPE=image/png:https://www.cuddleparty.com/wp-content/uploads/2026/01/KaraokeCuddle-Party-Banner.png
END:VEVENT
BEGIN:VEVENT
DTSTART;TZID=America/New_York:20260221T140000
DTEND;TZID=America/New_York:20260221T180000
DTSTAMP:20260423T053451
CREATED:20260114T193726Z
LAST-MODIFIED:20260114T193726Z
UID:97446-1771682400-1771696800@www.cuddleparty.com
SUMMARY:February Cuddle Party
DESCRIPTION:I’m hosting an intimate and small cuddle party on Feb 21 in Columbus\, OH and we’d LOVE to have you. We’re only opening 10 spots\, and price will go up each week until we’re sold out. We suggest getting your ticket sooner than later! 🙂 \nIf you want more info\, you can head to the website or text me at 614-500-3830 \nwww.whitneybrewer.com/cuddleparty
URL:https://www.cuddleparty.com/event/february-cuddle-party/
LOCATION:Columbus\, Ohio\, Columbus\, OH\, United States
CATEGORIES:Cuddle Party
ATTACH;FMTTYPE=image/jpeg:https://www.cuddleparty.com/wp-content/uploads/2026/01/whitney-58-scaled.jpg
ORGANIZER;CN="Whitney Brewer":MAILTO:whitney.brewer@gmail.com
END:VEVENT
BEGIN:VEVENT
DTSTART;TZID=America/New_York:20260131T140000
DTEND;TZID=America/New_York:20260131T180000
DTSTAMP:20260423T053451
CREATED:20251210T175827Z
LAST-MODIFIED:20251210T175827Z
UID:97070-1769868000-1769882400@www.cuddleparty.com
SUMMARY:FEMALE-ONLY Cuddle Party - Ohio
DESCRIPTION:Over the last few months\, I’ve had several women ask if I would be willing to host a female-only Cuddle Party — a space dedicated entirely to women who want to explore consent\, communication\, connection\, and nervous-system safety with other women. After hearing the requests and feeling how needed this container is\, I’m saying yes. \nOn January 31\, 2026\, I’ll be offering a Female-Only Cuddle Party in Piqua\, Ohio. \nThis event will include: \nThe full Cuddle Party Welcome Circle \nConsent + boundaries practice \nCommunication exercises \nA structured\, safe\, supportive environment \nSpace to explore touch\, connection\, and choice with clarity and agency \nFor those who want to join us\, I’m offering a $5 discount through Friday\, December 10 with the code FIVEOFF. \nThis gathering is ideal for women who want a gentle\, empowering\, and deeply supportive place to reconnect with their bodies\, practice empowered communication\, and experience community in a safe\, consent-forward environment. \nI’m honored to offer this space and look forward to holding it with you.
URL:https://www.cuddleparty.com/event/female-only-cuddle-party-ohio/
LOCATION:Piqua\, OH
CATEGORIES:Cuddle Party
ATTACH;FMTTYPE=image/jpeg:https://www.cuddleparty.com/wp-content/uploads/2025/12/IMG_4281-scaled.jpeg
ORGANIZER;CN="Whitney Brewer":MAILTO:whitney.brewer@gmail.com
END:VEVENT
BEGIN:VEVENT
DTSTART;TZID=America/New_York:20251101T140000
DTEND;TZID=America/New_York:20251101T173000
DTSTAMP:20260423T053451
CREATED:20250728T152300Z
LAST-MODIFIED:20250728T152300Z
UID:78382-1762005600-1762018200@www.cuddleparty.com
SUMMARY:Cuddle Party with Willow
DESCRIPTION:A Cuddle Party is a relaxed\, welcoming space designed for connection and personal growth. This three-and-a-half-hour gathering combines elements of a communication and boundaries workshop with a social event.  \nA Cuddle Party with Willow is a supportive environment where you can develop skills to ask for what you want\, learn to say no with confidence\, and practice respecting others’ boundaries.  \nCuddle Parties provide a wonderful opportunity to meet kind\, like-minded people and to build practical relationship skills in a conscious and caring setting.
URL:https://www.cuddleparty.com/event/cuddle-party-with-willow-4/
LOCATION:Private Residence in Portland\, Maine\, Portland\, ME\, 04102\, United States
CATEGORIES:Cuddle Party
ATTACH;FMTTYPE=image/jpeg:https://www.cuddleparty.com/wp-content/uploads/2025/07/IMG_1167-4.jpg
END:VEVENT
END:VCALENDAR